BEGIN:VCALENDAR
VERSION:2.0
PRODID:-//worldculture.org - ECPv6.15.7//NONSGML v1.0//EN
CALSCALE:GREGORIAN
METHOD:PUBLISH
X-ORIGINAL-URL:https://worldculture.org
X-WR-CALDESC:Events for worldculture.org
REFRESH-INTERVAL;VALUE=DURATION:PT1H
X-Robots-Tag:noindex
X-PUBLISHED-TTL:PT1H
BEGIN:VTIMEZONE
TZID:America/Los_Angeles
BEGIN:DAYLIGHT
TZOFFSETFROM:-0800
TZOFFSETTO:-0700
TZNAME:PDT
DTSTART:20240310T100000
END:DAYLIGHT
BEGIN:STANDARD
TZOFFSETFROM:-0700
TZOFFSETTO:-0800
TZNAME:PST
DTSTART:20241103T090000
END:STANDARD
BEGIN:DAYLIGHT
TZOFFSETFROM:-0800
TZOFFSETTO:-0700
TZNAME:PDT
DTSTART:20250309T100000
END:DAYLIGHT
BEGIN:STANDARD
TZOFFSETFROM:-0700
TZOFFSETTO:-0800
TZNAME:PST
DTSTART:20251102T090000
END:STANDARD
BEGIN:DAYLIGHT
TZOFFSETFROM:-0800
TZOFFSETTO:-0700
TZNAME:PDT
DTSTART:20260308T100000
END:DAYLIGHT
BEGIN:STANDARD
TZOFFSETFROM:-0700
TZOFFSETTO:-0800
TZNAME:PST
DTSTART:20261101T090000
END:STANDARD
END:VTIMEZONE
BEGIN:VEVENT
DTSTART;TZID=America/Los_Angeles:20251108T140000
DTEND;TZID=America/Los_Angeles:20251108T160000
DTSTAMP:20260424T114105
CREATED:20250913T202003Z
LAST-MODIFIED:20250913T202003Z
UID:2729-1762610400-1762617600@worldculture.org
SUMMARY:Forum:  Sikhism: the Path of Love and Service
DESCRIPTION:Sikhism is a spiritual\, religious\, and philosophical path that originated in the Punjab region of India at the end of the fifteenth century CE. Dr. Veena Howard\, a scholar of the Dharma traditions of India and of Gandhi’s philosophy\, will offer spiritual insights into the Sikh tradition. Drawing upon her experiences growing up in India\, she will show how the universal teachings of Sikhism—from the remembrance of the True Name to the practice of selfless service—embody both mystical depth and a world- affirming philosophy. She will also relate the teachings of Sikhism to a modern Sant tradition of Bihar\, in which she was raised\, highlighting resonances between the two. Dr. Howard will be participating via Zoom and will take questions from the live audience.
URL:https://worldculture.org/event/forum-sikhism-the-path-of-love-and-service/
LOCATION:Concord Hall\, 1407 Chapala Street\, in the back\, Santa Barbara\, CA\, 93101\, United States
END:VEVENT
END:VCALENDAR