BEGIN:VCALENDAR
VERSION:2.0
PRODID:-//worldculture.org - ECPv6.15.7//NONSGML v1.0//EN
CALSCALE:GREGORIAN
METHOD:PUBLISH
X-WR-CALNAME:worldculture.org
X-ORIGINAL-URL:https://worldculture.org
X-WR-CALDESC:Events for worldculture.org
REFRESH-INTERVAL;VALUE=DURATION:PT1H
X-Robots-Tag:noindex
X-PUBLISHED-TTL:PT1H
BEGIN:VTIMEZONE
TZID:America/Los_Angeles
BEGIN:DAYLIGHT
TZOFFSETFROM:-0800
TZOFFSETTO:-0700
TZNAME:PDT
DTSTART:20250309T100000
END:DAYLIGHT
BEGIN:STANDARD
TZOFFSETFROM:-0700
TZOFFSETTO:-0800
TZNAME:PST
DTSTART:20251102T090000
END:STANDARD
BEGIN:DAYLIGHT
TZOFFSETFROM:-0800
TZOFFSETTO:-0700
TZNAME:PDT
DTSTART:20260308T100000
END:DAYLIGHT
BEGIN:STANDARD
TZOFFSETFROM:-0700
TZOFFSETTO:-0800
TZNAME:PST
DTSTART:20261101T090000
END:STANDARD
BEGIN:DAYLIGHT
TZOFFSETFROM:-0800
TZOFFSETTO:-0700
TZNAME:PDT
DTSTART:20270314T100000
END:DAYLIGHT
BEGIN:STANDARD
TZOFFSETFROM:-0700
TZOFFSETTO:-0800
TZNAME:PST
DTSTART:20271107T090000
END:STANDARD
END:VTIMEZONE
BEGIN:VEVENT
DTSTART;TZID=America/Los_Angeles:20260420T190000
DTEND;TZID=America/Los_Angeles:20260420T203000
DTSTAMP:20260419T054505
CREATED:20260403T001811Z
LAST-MODIFIED:20260403T130138Z
UID:4128-1776711600-1776717000@worldculture.org
SUMMARY:Monday Night Salon Series: From Starlight to Artificial Intelligence
DESCRIPTION:How We Learn to Read the Universe\nThis talk will explore how modern artificial intelligence (AI) systems work through an astronomical lens\, including their remarkable capabilities as well as their inherent limitations. By examining how we study the universe\, we uncover parallels in how both humans and machines recognize patterns in complex\, noisy data to make sense of the world. Drawing on examples from AI and the cosmos\, we will discover how scientists use machine learning to analyze faint signals from space\, and how these same principles of pattern recognition shape how we interpret information and understand the universe (and one another). In addition\, we will explore how these ways of thinking can help guide us through an increasingly complex\, technology-driven world.   \n  \nDaniel Godinez is an astronomer and machine learning expert whose research spans planet formation\, gravitational microlensing\, and the discovery of rare\, energetic phenomena such as active black holes. Beyond the stars\, he is interested in how patterns of reasoning\, whether in humans or machines\, shape the ways we understand the world and connect with one another.\n \n  \nTo receive the Zoom link\, please email donna@worldculture.org. For additional program details\, visit the Tuesday Study Circles page.
URL:https://worldculture.org/event/from-starlight-to-artificial-intelligence/
LOCATION:Concord House Seminar Room & Zoom\, 1407 Chapala Street\, Santa Barbara\, 93101\, United States
ATTACH;FMTTYPE=image/png:https://worldculture.org/wp-content/uploads/Program_images/2026/From-Starlight-to-AI-Image.png
END:VEVENT
END:VCALENDAR