BEGIN:VCALENDAR
VERSION:2.0
PRODID:-//worldculture.org - ECPv6.15.7//NONSGML v1.0//EN
CALSCALE:GREGORIAN
METHOD:PUBLISH
X-ORIGINAL-URL:https://worldculture.org
X-WR-CALDESC:Events for worldculture.org
REFRESH-INTERVAL;VALUE=DURATION:PT1H
X-Robots-Tag:noindex
X-PUBLISHED-TTL:PT1H
BEGIN:VTIMEZONE
TZID:America/Los_Angeles
BEGIN:DAYLIGHT
TZOFFSETFROM:-0800
TZOFFSETTO:-0700
TZNAME:PDT
DTSTART:20240310T100000
END:DAYLIGHT
BEGIN:STANDARD
TZOFFSETFROM:-0700
TZOFFSETTO:-0800
TZNAME:PST
DTSTART:20241103T090000
END:STANDARD
BEGIN:DAYLIGHT
TZOFFSETFROM:-0800
TZOFFSETTO:-0700
TZNAME:PDT
DTSTART:20250309T100000
END:DAYLIGHT
BEGIN:STANDARD
TZOFFSETFROM:-0700
TZOFFSETTO:-0800
TZNAME:PST
DTSTART:20251102T090000
END:STANDARD
BEGIN:DAYLIGHT
TZOFFSETFROM:-0800
TZOFFSETTO:-0700
TZNAME:PDT
DTSTART:20260308T100000
END:DAYLIGHT
BEGIN:STANDARD
TZOFFSETFROM:-0700
TZOFFSETTO:-0800
TZNAME:PST
DTSTART:20261101T090000
END:STANDARD
END:VTIMEZONE
BEGIN:VEVENT
DTSTART;TZID=America/Los_Angeles:20251202T193000
DTEND;TZID=America/Los_Angeles:20251202T210000
DTSTAMP:20260419T113207
CREATED:20251114T033241Z
LAST-MODIFIED:20251213T170053Z
UID:3712-1764703800-1764709200@worldculture.org
SUMMARY:Study Circle
DESCRIPTION:An ongoing study circle every Tuesday night covering a variety of themes. \n\n\n\n\nIf you would like to join the Study Circle via Zoom\, please contact donna@worldculture.org for a link.
URL:https://worldculture.org/event/study-circle-14/
LOCATION:Seminar Room\, 1407 Chapala Street\, Santa Barbara\, CA\, 93101\, United States
END:VEVENT
BEGIN:VEVENT
DTSTART;TZID=America/Los_Angeles:20251206T140000
DTEND;TZID=America/Los_Angeles:20251206T160000
DTSTAMP:20260419T113207
CREATED:20251114T034301Z
LAST-MODIFIED:20251114T034331Z
UID:3720-1765029600-1765036800@worldculture.org
SUMMARY:Vinoba Bhave: Contemplative Mystic and Social Revolutionary
DESCRIPTION:Mahatma Gandhi’s disciple and spiritual heir\, Vinoba Bhave creatively fused the sacred and the secular\, through spiritual courage and non-violent social reform. Hear his life story.\n\n\n\n\nPresenters:\nDr. Anand Mundra and\nDr. James Tepfer \n\nConcord House Seminar Room\n1407 Chapala Street\, Santa Barbara\nIn-Person and Livestream* \n      Join us as Drs. Anand Mundra and James Tepfer narrate the life-story of Mahatma Gandhi’s disciple and spiritual heir\, Vinoba Bhave\, who became adept at creatively fusing the sacred and the secular\, spiritual courage and non-violent social reform.  After Gandhi’s death\, Bhave became the heroic purveyor of non-violent political and social revolution at a critical turning point in the early\, unstable days of the Republic of India. Inspired by his mentor\, Bhave became the focal point for rescuing the fledgling Indian nation from class warfare\, which was being actively and violently promoted by communists in rural India. \nListen also\, to rare\, real life stories of spiritual courage-in-action as told by Dr. Mundra\, the son of the personal secretary of Vinobha Bhave.\n \n  \nDr. Anand Mundra was born and raised in Gandhi and Vinoba’s ashrams and was witness to his father\, mother\, and devoted ashramites navigating the complex personal challenges of living lives dedicated to active political action\,    social regeneration and God-realization. \n  \n \nDr. James Tepfer is a founding member of the Institute of World Culture\, a retired Philosophy and Political Science Professor\, and a Gandhian scholar. \n  \nPhoto: (left) Vinoba Bhave and (center) Dr. Mundra’s father; on the occasion of giving away the first contribution of land donated to the Bhoodan voluntary land reform movement in India.
URL:https://worldculture.org/event/vinoba-bhave-contemplative-mystic-and-social-revolutionary/
LOCATION:Seminar Room of Concord House & Livestream\, 1407 Chapala Street\, Santa Barbara
ATTACH;FMTTYPE=image/jpeg:https://worldculture.org/wp-content/uploads/Program_images/land-distribution-2-2.jpg
END:VEVENT
BEGIN:VEVENT
DTSTART;TZID=America/Los_Angeles:20251209T193000
DTEND;TZID=America/Los_Angeles:20251209T210000
DTSTAMP:20260419T113207
CREATED:20251114T033047Z
LAST-MODIFIED:20251213T170016Z
UID:3710-1765308600-1765314000@worldculture.org
SUMMARY:Study Circle
DESCRIPTION:An ongoing study circle every Tuesday night covering a variety of themes.
URL:https://worldculture.org/event/study-circle-15/
LOCATION:Seminar Room\, 1407 Chapala Street\, Santa Barbara\, CA\, 93101\, United States
END:VEVENT
BEGIN:VEVENT
DTSTART;TZID=America/Los_Angeles:20251213T190000
DTEND;TZID=America/Los_Angeles:20251213T210000
DTSTAMP:20260419T113207
CREATED:20251114T025536Z
LAST-MODIFIED:20251204T194306Z
UID:3703-1765652400-1765659600@worldculture.org
SUMMARY:Annual Members' Holiday Reception
DESCRIPTION:Join fellow members in a celebration of the seasonal observance of birth and renewal. Come and enjoy the opportunity for fellowship\, live seasonal music\, and holiday treats at this after dinner get-together at the Institute’s Concord House. Musicians will add to the festivity of the season with music based on Christmas themes and instrumental versions of Christmas carols.\n\n\nEach member may bring one or two guests.\n\n\n*IWC Membership: If you would like to become a member\, or wish to renew your membership\, you may donate HERE\, or mail a check to IWC Membership\, 1407 Chapala St.\, Santa Barbara\, CA 93101. You may also bring your donation to the Holiday Reception.\n\nThe annual levels of membership include $15 Student; $35 Individual; $70 Supporting; $350 Sustaining. Questions about membership may be sent to memberships@worldculture.org\, or you may leave a message at (805) 966-3941. Thank you for supporting the uplifting work of the Institute!
URL:https://worldculture.org/event/annual-members-holiday-reception/
LOCATION:Concord House\, 1407 Chapala Street\, Santa Barbara
ATTACH;FMTTYPE=image/jpeg:https://worldculture.org/wp-content/uploads/Images_for_permanent_pages/holiday-image.jpg
END:VEVENT
BEGIN:VEVENT
DTSTART;TZID=America/Los_Angeles:20251216T193000
DTEND;TZID=America/Los_Angeles:20251216T210000
DTSTAMP:20260419T113207
CREATED:20251114T033313Z
LAST-MODIFIED:20251213T164103Z
UID:3714-1765913400-1765918800@worldculture.org
SUMMARY:Study Circle
DESCRIPTION:An ongoing study circle every Tuesday night covering a variety of themes. This month’s schedule is HERE.\n\n\n\nIf you would like to join the Study Circle via Zoom\, please contact donna@worldculture.org for a link.
URL:https://worldculture.org/event/study-circle-16/
LOCATION:Seminar Room\, 1407 Chapala Street\, Santa Barbara\, CA\, 93101\, United States
END:VEVENT
BEGIN:VEVENT
DTSTART;TZID=America/Los_Angeles:20251223T193000
DTEND;TZID=America/Los_Angeles:20251223T210000
DTSTAMP:20260419T113207
CREATED:20251114T033345Z
LAST-MODIFIED:20251213T164335Z
UID:3716-1766518200-1766523600@worldculture.org
SUMMARY:Study Circle - no meeting\, Holiday Break
DESCRIPTION:Happy Holidays! \n 
URL:https://worldculture.org/event/study-circle-17/
LOCATION:Seminar Room\, 1407 Chapala Street\, Santa Barbara\, CA\, 93101\, United States
ATTACH;FMTTYPE=image/jpeg:https://worldculture.org/wp-content/uploads/Images_for_permanent_pages/holiday-image.jpg
END:VEVENT
BEGIN:VEVENT
DTSTART;TZID=America/Los_Angeles:20251230T193000
DTEND;TZID=America/Los_Angeles:20251230T210000
DTSTAMP:20260419T113208
CREATED:20251114T033426Z
LAST-MODIFIED:20251230T060457Z
UID:3718-1767123000-1767128400@worldculture.org
SUMMARY:Study Circle
DESCRIPTION:An ongoing study circle every Tuesday night covering a variety of themes. This month’s schedule is HERE.\n\n\n\nIf you would like to join the Study Circle via Zoom\, please contact donna@worldculture.org for a link.
URL:https://worldculture.org/event/study-circle-18/
LOCATION:Seminar Room\, 1407 Chapala Street\, Santa Barbara\, CA\, 93101\, United States
END:VEVENT
END:VCALENDAR